BEGIN:VCALENDAR
VERSION:2.0
PRODID:-//Grupo LatinoAmericano de Seguros - ECPv6.15.15//NONSGML v1.0//EN
CALSCALE:GREGORIAN
METHOD:PUBLISH
X-ORIGINAL-URL:https://insurancegls.com
X-WR-CALDESC:Events for Grupo LatinoAmericano de Seguros
REFRESH-INTERVAL;VALUE=DURATION:PT1H
X-Robots-Tag:noindex
X-PUBLISHED-TTL:PT1H
BEGIN:VTIMEZONE
TZID:America/New_York
BEGIN:DAYLIGHT
TZOFFSETFROM:-0500
TZOFFSETTO:-0400
TZNAME:EDT
DTSTART:20230312T070000
END:DAYLIGHT
BEGIN:STANDARD
TZOFFSETFROM:-0400
TZOFFSETTO:-0500
TZNAME:EST
DTSTART:20231105T060000
END:STANDARD
BEGIN:DAYLIGHT
TZOFFSETFROM:-0500
TZOFFSETTO:-0400
TZNAME:EDT
DTSTART:20240310T070000
END:DAYLIGHT
BEGIN:STANDARD
TZOFFSETFROM:-0400
TZOFFSETTO:-0500
TZNAME:EST
DTSTART:20241103T060000
END:STANDARD
BEGIN:DAYLIGHT
TZOFFSETFROM:-0500
TZOFFSETTO:-0400
TZNAME:EDT
DTSTART:20250309T070000
END:DAYLIGHT
BEGIN:STANDARD
TZOFFSETFROM:-0400
TZOFFSETTO:-0500
TZNAME:EST
DTSTART:20251102T060000
END:STANDARD
END:VTIMEZONE
BEGIN:VEVENT
DTSTART;TZID=America/New_York:20241001T110000
DTEND;TZID=America/New_York:20241001T130000
DTSTAMP:20260423T120108
CREATED:20240901T165150Z
LAST-MODIFIED:20241001T175116Z
UID:10001174-1727780400-1727787600@insurancegls.com
SUMMARY:Devoted Health: Devoted Health: 2025 Grand AEPrix Broker Rollout – Colorado (Virtual)
DESCRIPTION:
URL:https://insurancegls.com/event/devoted-health-devoted-health-2025-grand-aeprix-broker-rollout-colorado-virtual-7/
END:VEVENT
BEGIN:VEVENT
DTSTART;TZID=America/New_York:20241001T150000
DTEND;TZID=America/New_York:20241001T160000
DTSTAMP:20260423T120108
CREATED:20241001T202043Z
LAST-MODIFIED:20241001T202043Z
UID:10001227-1727794800-1727798400@insurancegls.com
SUMMARY:Camino al AEP 2025/Su preparación es clave a menos de 1 mes del AEP 2025¿Estas Listo?
DESCRIPTION: 
URL:https://insurancegls.com/event/camino-al-aep-2025-su-preparacion-es-clave-a-menos-de-1-mes-del-aep-2025estas-listo/
END:VEVENT
END:VCALENDAR