BEGIN:VCALENDAR
VERSION:2.0
PRODID:-//Grupo LatinoAmericano de Seguros - ECPv6.15.15//NONSGML v1.0//EN
CALSCALE:GREGORIAN
METHOD:PUBLISH
X-WR-CALNAME:Grupo LatinoAmericano de Seguros
X-ORIGINAL-URL:https://insurancegls.com
X-WR-CALDESC:Events for Grupo LatinoAmericano de Seguros
REFRESH-INTERVAL;VALUE=DURATION:PT1H
X-Robots-Tag:noindex
X-PUBLISHED-TTL:PT1H
BEGIN:VTIMEZONE
TZID:America/New_York
BEGIN:DAYLIGHT
TZOFFSETFROM:-0500
TZOFFSETTO:-0400
TZNAME:EDT
DTSTART:20240310T070000
END:DAYLIGHT
BEGIN:STANDARD
TZOFFSETFROM:-0400
TZOFFSETTO:-0500
TZNAME:EST
DTSTART:20241103T060000
END:STANDARD
BEGIN:DAYLIGHT
TZOFFSETFROM:-0500
TZOFFSETTO:-0400
TZNAME:EDT
DTSTART:20250309T070000
END:DAYLIGHT
BEGIN:STANDARD
TZOFFSETFROM:-0400
TZOFFSETTO:-0500
TZNAME:EST
DTSTART:20251102T060000
END:STANDARD
BEGIN:DAYLIGHT
TZOFFSETFROM:-0500
TZOFFSETTO:-0400
TZNAME:EDT
DTSTART:20260308T070000
END:DAYLIGHT
BEGIN:STANDARD
TZOFFSETFROM:-0400
TZOFFSETTO:-0500
TZNAME:EST
DTSTART:20261101T060000
END:STANDARD
END:VTIMEZONE
BEGIN:VEVENT
DTSTART;TZID=America/New_York:20250710T110000
DTEND;TZID=America/New_York:20250710T120000
DTSTAMP:20260423T072446
CREATED:20250702T150755Z
LAST-MODIFIED:20250710T180558Z
UID:10001598-1752145200-1752148800@insurancegls.com
SUMMARY:SILAC: TETON 5 & TETON BONUS 5
DESCRIPTION:
URL:https://insurancegls.com/event/silac-teton-5-teton-bonus-5/
END:VEVENT
BEGIN:VEVENT
DTSTART;TZID=America/New_York:20250710T110000
DTEND;TZID=America/New_York:20250710T120000
DTSTAMP:20260423T072446
CREATED:20250702T150755Z
LAST-MODIFIED:20250710T180559Z
UID:10001599-1752145200-1752148800@insurancegls.com
SUMMARY:Aetna Senior: SSI Agent Website Tutorial
DESCRIPTION:
URL:https://insurancegls.com/event/aetna-senior-ssi-agent-website-tutorial-4/
END:VEVENT
BEGIN:VEVENT
DTSTART;TZID=America/New_York:20250710T130000
DTEND;TZID=America/New_York:20250710T140000
DTSTAMP:20260423T072446
CREATED:20250702T150755Z
LAST-MODIFIED:20250710T180559Z
UID:10001600-1752152400-1752156000@insurancegls.com
SUMMARY:Legacy: Inside EclipseMark: A New FIA Designed for Today’s Clients
DESCRIPTION:
URL:https://insurancegls.com/event/legacy-inside-eclipsemark-a-new-fia-designed-for-todays-clients/
END:VEVENT
BEGIN:VEVENT
DTSTART;TZID=America/New_York:20250710T150000
DTEND;TZID=America/New_York:20250710T160000
DTSTAMP:20260423T072446
CREATED:20250701T165626Z
LAST-MODIFIED:20250701T165626Z
UID:10001587-1752159600-1752163200@insurancegls.com
SUMMARY:Welcome to 2026 AHIP training for this coming AEP!
DESCRIPTION:
URL:https://insurancegls.com/event/welcome-to-2026-ahip-training-for-this-coming-aep/
END:VEVENT
BEGIN:VEVENT
DTSTART;TZID=America/New_York:20250710T150000
DTEND;TZID=America/New_York:20250710T160000
DTSTAMP:20260423T072446
CREATED:20250702T150755Z
LAST-MODIFIED:20250710T180559Z
UID:10001601-1752159600-1752163200@insurancegls.com
SUMMARY:Aetna Senior: Final Expense Whole Life Insurance (CLI)
DESCRIPTION:
URL:https://insurancegls.com/event/aetna-senior-final-expense-whole-life-insurance-cli-2/
END:VEVENT
BEGIN:VEVENT
DTSTART;TZID=America/New_York:20250710T150000
DTEND;TZID=America/New_York:20250710T160000
DTSTAMP:20260423T072446
CREATED:20250702T150755Z
LAST-MODIFIED:20250710T180559Z
UID:10001602-1752159600-1752163200@insurancegls.com
SUMMARY:Wellabe | Medico: Critical Illness Training: Help clients build coverage that fits their needs
DESCRIPTION:
URL:https://insurancegls.com/event/wellabe-medico-critical-illness-training-help-clients-build-coverage-that-fits-their-needs-2/
END:VEVENT
END:VCALENDAR