BEGIN:VCALENDAR
VERSION:2.0
PRODID:-//Grupo LatinoAmericano de Seguros - ECPv6.15.15//NONSGML v1.0//EN
CALSCALE:GREGORIAN
METHOD:PUBLISH
X-ORIGINAL-URL:https://insurancegls.com
X-WR-CALDESC:Events for Grupo LatinoAmericano de Seguros
REFRESH-INTERVAL;VALUE=DURATION:PT1H
X-Robots-Tag:noindex
X-PUBLISHED-TTL:PT1H
BEGIN:VTIMEZONE
TZID:America/New_York
BEGIN:DAYLIGHT
TZOFFSETFROM:-0500
TZOFFSETTO:-0400
TZNAME:EDT
DTSTART:20250309T070000
END:DAYLIGHT
BEGIN:STANDARD
TZOFFSETFROM:-0400
TZOFFSETTO:-0500
TZNAME:EST
DTSTART:20251102T060000
END:STANDARD
BEGIN:DAYLIGHT
TZOFFSETFROM:-0500
TZOFFSETTO:-0400
TZNAME:EDT
DTSTART:20260308T070000
END:DAYLIGHT
BEGIN:STANDARD
TZOFFSETFROM:-0400
TZOFFSETTO:-0500
TZNAME:EST
DTSTART:20261101T060000
END:STANDARD
BEGIN:DAYLIGHT
TZOFFSETFROM:-0500
TZOFFSETTO:-0400
TZNAME:EDT
DTSTART:20270314T070000
END:DAYLIGHT
BEGIN:STANDARD
TZOFFSETFROM:-0400
TZOFFSETTO:-0500
TZNAME:EST
DTSTART:20271107T060000
END:STANDARD
END:VTIMEZONE
BEGIN:VEVENT
DTSTART;TZID=America/New_York:20260129T110000
DTEND;TZID=America/New_York:20260129T120000
DTSTAMP:20260423T060720
CREATED:20260108T183717Z
LAST-MODIFIED:20260129T200557Z
UID:10002297-1769684400-1769688000@insurancegls.com
SUMMARY:Aetna Senior Supplemental – Learn to Cross Sell with Medicare Supplement
DESCRIPTION:
URL:https://insurancegls.com/event/aetna-senior-supplemental-learn-to-cross-sell-with-medicare-supplement-3/
END:VEVENT
BEGIN:VEVENT
DTSTART;TZID=America/New_York:20260129T140000
DTEND;TZID=America/New_York:20260129T143000
DTSTAMP:20260423T060720
CREATED:20260124T195107Z
LAST-MODIFIED:20260129T200557Z
UID:10002306-1769695200-1769697000@insurancegls.com
SUMMARY:W&S Financial Group – Boost Your Business with Expert Annuity Strategies & Timely Topics!
DESCRIPTION:
URL:https://insurancegls.com/event/ws-financial-group-boost-your-business-with-expert-annuity-strategies-timely-topics-3/
END:VEVENT
BEGIN:VEVENT
DTSTART;TZID=America/New_York:20260129T140000
DTEND;TZID=America/New_York:20260129T150000
DTSTAMP:20260423T060720
CREATED:20260108T183717Z
LAST-MODIFIED:20260129T200557Z
UID:10002298-1769695200-1769698800@insurancegls.com
SUMMARY:Aetna Senior Supplemental – How to Contract your Downline Agents
DESCRIPTION:
URL:https://insurancegls.com/event/aetna-senior-supplemental-how-to-contract-your-downline-agents-5/
END:VEVENT
BEGIN:VEVENT
DTSTART;TZID=America/New_York:20260129T150000
DTEND;TZID=America/New_York:20260129T153000
DTSTAMP:20260423T060720
CREATED:20260124T195107Z
LAST-MODIFIED:20260129T200557Z
UID:10002307-1769698800-1769700600@insurancegls.com
SUMMARY:ManhattanLife – Spanish ARC/2.0 – Centro de Recursos para el Agente y la Plataforma de Cotización
DESCRIPTION:
URL:https://insurancegls.com/event/manhattanlife-spanish-arc-2-0-centro-de-recursos-para-el-agente-y-la-plataforma-de-cotizacion/
END:VEVENT
END:VCALENDAR