BEGIN:VCALENDAR
VERSION:2.0
PRODID:-//Grupo LatinoAmericano de Seguros - ECPv6.15.15//NONSGML v1.0//EN
CALSCALE:GREGORIAN
METHOD:PUBLISH
X-WR-CALNAME:Grupo LatinoAmericano de Seguros
X-ORIGINAL-URL:https://insurancegls.com
X-WR-CALDESC:Events for Grupo LatinoAmericano de Seguros
REFRESH-INTERVAL;VALUE=DURATION:PT1H
X-Robots-Tag:noindex
X-PUBLISHED-TTL:PT1H
BEGIN:VTIMEZONE
TZID:MST
END:VTIMEZONE
BEGIN:VTIMEZONE
TZID:PST
END:VTIMEZONE
BEGIN:VTIMEZONE
TZID:EST
END:VTIMEZONE
BEGIN:VTIMEZONE
TZID:CST
END:VTIMEZONE
BEGIN:VTIMEZONE
TZID:America/New_York
BEGIN:DAYLIGHT
TZOFFSETFROM:-0500
TZOFFSETTO:-0400
TZNAME:EDT
DTSTART:20250309T070000
END:DAYLIGHT
BEGIN:STANDARD
TZOFFSETFROM:-0400
TZOFFSETTO:-0500
TZNAME:EST
DTSTART:20251102T060000
END:STANDARD
BEGIN:DAYLIGHT
TZOFFSETFROM:-0500
TZOFFSETTO:-0400
TZNAME:EDT
DTSTART:20260308T070000
END:DAYLIGHT
BEGIN:STANDARD
TZOFFSETFROM:-0400
TZOFFSETTO:-0500
TZNAME:EST
DTSTART:20261101T060000
END:STANDARD
BEGIN:DAYLIGHT
TZOFFSETFROM:-0500
TZOFFSETTO:-0400
TZNAME:EDT
DTSTART:20270314T070000
END:DAYLIGHT
BEGIN:STANDARD
TZOFFSETFROM:-0400
TZOFFSETTO:-0500
TZNAME:EST
DTSTART:20271107T060000
END:STANDARD
END:VTIMEZONE
BEGIN:VEVENT
DTSTART;TZID=MST:20260422T093000
DTEND;TZID=MST:20260422T093000
DTSTAMP:20260422T015045
CREATED:20260324T172138Z
LAST-MODIFIED:20260413T182116Z
UID:10002615-1776850200-1776850200@insurancegls.com
SUMMARY:2026 MA/MAPD product training
DESCRIPTION:
URL:https://insurancegls.com/event/2026-ma-mapd-product-training-44/
END:VEVENT
BEGIN:VEVENT
DTSTART;TZID=PST:20260422T093000
DTEND;TZID=PST:20260422T093000
DTSTAMP:20260422T015045
CREATED:20260324T172139Z
LAST-MODIFIED:20260413T182117Z
UID:10002616-1776850200-1776850200@insurancegls.com
SUMMARY:Think Agent: New Version Changes
DESCRIPTION:
URL:https://insurancegls.com/event/think-agent-new-version-changes-5/
END:VEVENT
BEGIN:VEVENT
DTSTART;TZID=EST:20260422T100000
DTEND;TZID=EST:20260422T100000
DTSTAMP:20260422T015045
CREATED:20260324T172139Z
LAST-MODIFIED:20260413T182117Z
UID:10002617-1776852000-1776852000@insurancegls.com
SUMMARY:DSNP and LIS Training
DESCRIPTION:
URL:https://insurancegls.com/event/dsnp-and-lis-training-3/
END:VEVENT
BEGIN:VEVENT
DTSTART;TZID=EST:20260422T100000
DTEND;TZID=EST:20260422T100000
DTSTAMP:20260422T015045
CREATED:20260324T172139Z
LAST-MODIFIED:20260413T182117Z
UID:10002618-1776852000-1776852000@insurancegls.com
SUMMARY:Medicaid for the Medicare Beneficiary
DESCRIPTION:
URL:https://insurancegls.com/event/medicaid-for-the-medicare-beneficiary/
END:VEVENT
BEGIN:VEVENT
DTSTART;TZID=CST:20260422T100000
DTEND;TZID=CST:20260422T100000
DTSTAMP:20260422T015045
CREATED:20260324T172139Z
LAST-MODIFIED:20260413T182117Z
UID:10002619-1776852000-1776852000@insurancegls.com
SUMMARY:Veteran Benefits and Medicare
DESCRIPTION:
URL:https://insurancegls.com/event/veteran-benefits-and-medicare-4/
END:VEVENT
BEGIN:VEVENT
DTSTART;TZID=EST:20260422T100000
DTEND;TZID=EST:20260422T100000
DTSTAMP:20260422T015045
CREATED:20260324T172139Z
LAST-MODIFIED:20260413T182117Z
UID:10002620-1776852000-1776852000@insurancegls.com
SUMMARY:Deep Dive\, CSNP
DESCRIPTION:
URL:https://insurancegls.com/event/deep-dive-csnp-10/
END:VEVENT
BEGIN:VEVENT
DTSTART;TZID=EST:20260422T100000
DTEND;TZID=EST:20260422T100000
DTSTAMP:20260422T015045
CREATED:20260324T172139Z
LAST-MODIFIED:20260413T182117Z
UID:10002621-1776852000-1776852000@insurancegls.com
SUMMARY:Coffee Club
DESCRIPTION:
URL:https://insurancegls.com/event/coffee-club-3/
END:VEVENT
BEGIN:VEVENT
DTSTART;TZID=America/New_York:20260422T100000
DTEND;TZID=America/New_York:20260422T103000
DTSTAMP:20260422T015045
CREATED:20260325T190426Z
LAST-MODIFIED:20260325T190426Z
UID:10002931-1776852000-1776853800@insurancegls.com
SUMMARY:Grupo Briefings en Español
DESCRIPTION:
URL:https://insurancegls.com/event/grupo-briefings-en-espanol/2026-04-22/
END:VEVENT
BEGIN:VEVENT
DTSTART;TZID=America/New_York:20260422T100000
DTEND;TZID=America/New_York:20260422T120000
DTSTAMP:20260422T015045
CREATED:20260417T140104Z
LAST-MODIFIED:20260417T140104Z
UID:10003610-1776852000-1776859200@insurancegls.com
SUMMARY:Seguros de Vida Entera "Heritage" - Triple S
DESCRIPTION:
URL:https://insurancegls.com/event/seguros-de-vida-entera-heritage-triple-s/
END:VEVENT
BEGIN:VEVENT
DTSTART;TZID=CST:20260422T120000
DTEND;TZID=CST:20260422T120000
DTSTAMP:20260422T015045
CREATED:20260324T172139Z
LAST-MODIFIED:20260413T182117Z
UID:10002622-1776859200-1776859200@insurancegls.com
SUMMARY:BenefitsCheckUp
DESCRIPTION:
URL:https://insurancegls.com/event/benefitscheckup-2/
END:VEVENT
BEGIN:VEVENT
DTSTART;TZID=CST:20260422T140000
DTEND;TZID=CST:20260422T140000
DTSTAMP:20260422T015045
CREATED:20260324T172140Z
LAST-MODIFIED:20260413T182117Z
UID:10002623-1776866400-1776866400@insurancegls.com
SUMMARY:Veteran Benefits and Medicare
DESCRIPTION:
URL:https://insurancegls.com/event/veteran-benefits-and-medicare-5/
END:VEVENT
BEGIN:VEVENT
DTSTART;TZID=CST:20260422T150000
DTEND;TZID=CST:20260422T150000
DTSTAMP:20260422T015045
CREATED:20260324T172140Z
LAST-MODIFIED:20260413T182117Z
UID:10002624-1776870000-1776870000@insurancegls.com
SUMMARY:BenefitsCheckUp
DESCRIPTION:
URL:https://insurancegls.com/event/benefitscheckup-3/
END:VEVENT
BEGIN:VEVENT
DTSTART;TZID=MST:20260422T150000
DTEND;TZID=MST:20260422T150000
DTSTAMP:20260422T015045
CREATED:20260324T172140Z
LAST-MODIFIED:20260413T182118Z
UID:10002625-1776870000-1776870000@insurancegls.com
SUMMARY:Meet and Greet your new Medicare Broker Manager
DESCRIPTION:
URL:https://insurancegls.com/event/meet-and-greet-your-new-medicare-broker-manager-2/
END:VEVENT
END:VCALENDAR