BEGIN:VCALENDAR
VERSION:2.0
PRODID:-//Grupo LatinoAmericano de Seguros - ECPv6.15.15//NONSGML v1.0//EN
CALSCALE:GREGORIAN
METHOD:PUBLISH
X-WR-CALNAME:Grupo LatinoAmericano de Seguros
X-ORIGINAL-URL:https://insurancegls.com
X-WR-CALDESC:Events for Grupo LatinoAmericano de Seguros
REFRESH-INTERVAL;VALUE=DURATION:PT1H
X-Robots-Tag:noindex
X-PUBLISHED-TTL:PT1H
BEGIN:VTIMEZONE
TZID:CST
END:VTIMEZONE
BEGIN:VTIMEZONE
TZID:EST
END:VTIMEZONE
BEGIN:VTIMEZONE
TZID:America/New_York
BEGIN:DAYLIGHT
TZOFFSETFROM:-0500
TZOFFSETTO:-0400
TZNAME:EDT
DTSTART:20250309T070000
END:DAYLIGHT
BEGIN:STANDARD
TZOFFSETFROM:-0400
TZOFFSETTO:-0500
TZNAME:EST
DTSTART:20251102T060000
END:STANDARD
BEGIN:DAYLIGHT
TZOFFSETFROM:-0500
TZOFFSETTO:-0400
TZNAME:EDT
DTSTART:20260308T070000
END:DAYLIGHT
BEGIN:STANDARD
TZOFFSETFROM:-0400
TZOFFSETTO:-0500
TZNAME:EST
DTSTART:20261101T060000
END:STANDARD
BEGIN:DAYLIGHT
TZOFFSETFROM:-0500
TZOFFSETTO:-0400
TZNAME:EDT
DTSTART:20270314T070000
END:DAYLIGHT
BEGIN:STANDARD
TZOFFSETFROM:-0400
TZOFFSETTO:-0500
TZNAME:EST
DTSTART:20271107T060000
END:STANDARD
END:VTIMEZONE
BEGIN:VTIMEZONE
TZID:PST
END:VTIMEZONE
BEGIN:VEVENT
DTSTART;TZID=CST:20260518T113000
DTEND;TZID=CST:20260518T113000
DTSTAMP:20260423T192028
CREATED:20260422T154318Z
LAST-MODIFIED:20260423T180619Z
UID:10003625-1779103800-1779103800@insurancegls.com
SUMMARY:Momentum Mondays
DESCRIPTION:
URL:https://insurancegls.com/event/momentum-mondays-12/
END:VEVENT
BEGIN:VEVENT
DTSTART;TZID=CST:20260518T110000
DTEND;TZID=CST:20260518T110000
DTSTAMP:20260423T192028
CREATED:20260422T154318Z
LAST-MODIFIED:20260423T180619Z
UID:10003624-1779102000-1779102000@insurancegls.com
SUMMARY:2026 MA/MAPD product training
DESCRIPTION:
URL:https://insurancegls.com/event/2026-ma-mapd-product-training-64/
END:VEVENT
BEGIN:VEVENT
DTSTART;TZID=EST:20260518T100000
DTEND;TZID=EST:20260518T100000
DTSTAMP:20260423T192028
CREATED:20260422T154318Z
LAST-MODIFIED:20260423T180619Z
UID:10003623-1779098400-1779098400@insurancegls.com
SUMMARY:Momentum Mondays
DESCRIPTION:
URL:https://insurancegls.com/event/momentum-mondays-11/
END:VEVENT
BEGIN:VEVENT
DTSTART;TZID=EST:20260518T090000
DTEND;TZID=EST:20260518T090000
DTSTAMP:20260423T192028
CREATED:20260422T154318Z
LAST-MODIFIED:20260423T180618Z
UID:10003622-1779094800-1779094800@insurancegls.com
SUMMARY:Grassroots Marketing\, what is it and why is it important
DESCRIPTION:
URL:https://insurancegls.com/event/grassroots-marketing-what-is-it-and-why-is-it-important-15/
END:VEVENT
BEGIN:VEVENT
DTSTART;TZID=EST:20260515T100000
DTEND;TZID=EST:20260515T100000
DTSTAMP:20260423T192028
CREATED:20260422T154318Z
LAST-MODIFIED:20260423T180618Z
UID:10003620-1778839200-1778839200@insurancegls.com
SUMMARY:2026 MA/MAPD product training
DESCRIPTION:
URL:https://insurancegls.com/event/2026-ma-mapd-product-training-63/
END:VEVENT
BEGIN:VEVENT
DTSTART;TZID=EST:20260515T100000
DTEND;TZID=EST:20260515T100000
DTSTAMP:20260423T192028
CREATED:20260422T154318Z
LAST-MODIFIED:20260423T180618Z
UID:10003621-1778839200-1778839200@insurancegls.com
SUMMARY:Broker Forum
DESCRIPTION:
URL:https://insurancegls.com/event/broker-forum-17/
END:VEVENT
BEGIN:VEVENT
DTSTART;TZID=America/New_York:20260514T150000
DTEND;TZID=America/New_York:20260514T160000
DTSTAMP:20260423T192028
CREATED:20260414T145413Z
LAST-MODIFIED:20260414T162615Z
UID:10002669-1778770800-1778774400@insurancegls.com
SUMMARY:Foro en vivo con Ana Hernandez: Tengo un prospecto/cliente para anualidades! Semanalmente los Jueves: 3 p.m.!
DESCRIPTION:
URL:https://insurancegls.com/event/ana-nosensena-anualidades-forum-abierto-4-2/2026-05-14/
END:VEVENT
BEGIN:VEVENT
DTSTART;TZID=PST:20260514T140000
DTEND;TZID=PST:20260514T140000
DTSTAMP:20260423T192028
CREATED:20260422T154317Z
LAST-MODIFIED:20260423T180618Z
UID:10003619-1778767200-1778767200@insurancegls.com
SUMMARY:Member retention: Review tips and strategies for retaining your clients
DESCRIPTION:
URL:https://insurancegls.com/event/member-retention-review-tips-and-strategies-for-retaining-your-clients-8/
END:VEVENT
BEGIN:VEVENT
DTSTART;TZID=EST:20260514T130000
DTEND;TZID=EST:20260514T130000
DTSTAMP:20260423T192028
CREATED:20260422T154317Z
LAST-MODIFIED:20260423T180618Z
UID:10003618-1778763600-1778763600@insurancegls.com
SUMMARY:Member retention: Review tips and strategies for retaining your clients
DESCRIPTION:
URL:https://insurancegls.com/event/member-retention-review-tips-and-strategies-for-retaining-your-clients-7/
END:VEVENT
BEGIN:VEVENT
DTSTART;TZID=CST:20260514T120000
DTEND;TZID=CST:20260514T120000
DTSTAMP:20260423T192028
CREATED:20260422T154317Z
LAST-MODIFIED:20260423T180617Z
UID:10003617-1778760000-1778760000@insurancegls.com
SUMMARY:What is up Wednesdays
DESCRIPTION:
URL:https://insurancegls.com/event/what-is-up-wednesdays-9/
END:VEVENT
BEGIN:VEVENT
DTSTART;TZID=CST:20260514T100000
DTEND;TZID=CST:20260514T100000
DTSTAMP:20260423T192028
CREATED:20260422T154317Z
LAST-MODIFIED:20260423T180617Z
UID:10003616-1778752800-1778752800@insurancegls.com
SUMMARY:2026 MA/MAPD product training
DESCRIPTION:
URL:https://insurancegls.com/event/2026-ma-mapd-product-training-62/
END:VEVENT
BEGIN:VEVENT
DTSTART;TZID=America/New_York:20260513T100000
DTEND;TZID=America/New_York:20260513T103000
DTSTAMP:20260423T192028
CREATED:20260325T190426Z
LAST-MODIFIED:20260325T190426Z
UID:10002934-1778666400-1778668200@insurancegls.com
SUMMARY:Grupo Briefings en Español
DESCRIPTION:
URL:https://insurancegls.com/event/grupo-briefings-en-espanol/2026-05-13/
END:VEVENT
BEGIN:VEVENT
DTSTART;TZID=CST:20260513T100000
DTEND;TZID=CST:20260513T100000
DTSTAMP:20260423T192028
CREATED:20260413T182127Z
LAST-MODIFIED:20260423T180617Z
UID:10003350-1778666400-1778666400@insurancegls.com
SUMMARY:What is up Wednesdays
DESCRIPTION:
URL:https://insurancegls.com/event/what-is-up-wednesdays-8/
END:VEVENT
BEGIN:VEVENT
DTSTART;TZID=CST:20260513T100000
DTEND;TZID=CST:20260513T100000
DTSTAMP:20260423T192028
CREATED:20260413T182127Z
LAST-MODIFIED:20260423T180617Z
UID:10003351-1778666400-1778666400@insurancegls.com
SUMMARY:Meet and Greet your new Medicare Broker Manager
DESCRIPTION:
URL:https://insurancegls.com/event/meet-and-greet-your-new-medicare-broker-manager-3/
END:VEVENT
BEGIN:VEVENT
DTSTART;TZID=EST:20260513T100000
DTEND;TZID=EST:20260513T100000
DTSTAMP:20260423T192028
CREATED:20260413T182126Z
LAST-MODIFIED:20260423T180617Z
UID:10003348-1778666400-1778666400@insurancegls.com
SUMMARY:Deep Dive\, CSNP
DESCRIPTION:
URL:https://insurancegls.com/event/deep-dive-csnp-13/
END:VEVENT
BEGIN:VEVENT
DTSTART;TZID=EST:20260513T100000
DTEND;TZID=EST:20260513T100000
DTSTAMP:20260423T192028
CREATED:20260413T182126Z
LAST-MODIFIED:20260423T180617Z
UID:10003349-1778666400-1778666400@insurancegls.com
SUMMARY:2026 MA/MAPD product training
DESCRIPTION:
URL:https://insurancegls.com/event/2026-ma-mapd-product-training-61/
END:VEVENT
BEGIN:VEVENT
DTSTART;TZID=America/New_York:20260512T150000
DTEND;TZID=America/New_York:20260512T160000
DTSTAMP:20260423T192028
CREATED:20260401T174322Z
LAST-MODIFIED:20260401T174322Z
UID:10003219-1778598000-1778601600@insurancegls.com
SUMMARY:Unlock a new income Stream - Final Expense
DESCRIPTION:
URL:https://insurancegls.com/event/unlock-a-new-income-stream-final-expense/2026-05-12/
END:VEVENT
BEGIN:VEVENT
DTSTART;TZID=EST:20260512T130000
DTEND;TZID=EST:20260512T130000
DTSTAMP:20260423T192028
CREATED:20260412T182117Z
LAST-MODIFIED:20260423T180616Z
UID:10003347-1778590800-1778590800@insurancegls.com
SUMMARY:2026 MA/MAPD product training
DESCRIPTION:
URL:https://insurancegls.com/event/2026-ma-mapd-product-training-60/
END:VEVENT
BEGIN:VEVENT
DTSTART;TZID=CST:20260512T120000
DTEND;TZID=CST:20260512T120000
DTSTAMP:20260423T192028
CREATED:20260412T182117Z
LAST-MODIFIED:20260423T180616Z
UID:10003346-1778587200-1778587200@insurancegls.com
SUMMARY:Online provider lookup/provider directory training
DESCRIPTION:
URL:https://insurancegls.com/event/online-provider-lookup-provider-directory-training-7/
END:VEVENT
BEGIN:VEVENT
DTSTART;TZID=EST:20260512T103000
DTEND;TZID=EST:20260512T103000
DTSTAMP:20260423T192028
CREATED:20260412T182117Z
LAST-MODIFIED:20260423T180616Z
UID:10003345-1778581800-1778581800@insurancegls.com
SUMMARY:2026 MA/MAPD product training
DESCRIPTION:
URL:https://insurancegls.com/event/2026-ma-mapd-product-training-59/
END:VEVENT
BEGIN:VEVENT
DTSTART;TZID=CST:20260512T100000
DTEND;TZID=CST:20260512T100000
DTSTAMP:20260423T192029
CREATED:20260412T182117Z
LAST-MODIFIED:20260423T180616Z
UID:10003344-1778580000-1778580000@insurancegls.com
SUMMARY:Veteran Benefits and Medicare
DESCRIPTION:
URL:https://insurancegls.com/event/veteran-benefits-and-medicare-7/
END:VEVENT
BEGIN:VEVENT
DTSTART;TZID=PST:20260512T093000
DTEND;TZID=PST:20260512T093000
DTSTAMP:20260423T192029
CREATED:20260412T182117Z
LAST-MODIFIED:20260423T180616Z
UID:10003343-1778578200-1778578200@insurancegls.com
SUMMARY:Grab and Go: Swing by for a refill on kits and supplies
DESCRIPTION:
URL:https://insurancegls.com/event/grab-and-go-swing-by-for-a-refill-on-kits-and-supplies-3/
END:VEVENT
BEGIN:VEVENT
DTSTART;TZID=PST:20260512T090000
DTEND;TZID=PST:20260512T090000
DTSTAMP:20260423T192029
CREATED:20260412T182117Z
LAST-MODIFIED:20260423T180615Z
UID:10003342-1778576400-1778576400@insurancegls.com
SUMMARY:Producer World overview training
DESCRIPTION:
URL:https://insurancegls.com/event/producer-world-overview-training-18/
END:VEVENT
BEGIN:VEVENT
DTSTART;TZID=CST:20260512T083000
DTEND;TZID=CST:20260512T083000
DTSTAMP:20260423T192029
CREATED:20260412T182116Z
LAST-MODIFIED:20260423T180615Z
UID:10003341-1778574600-1778574600@insurancegls.com
SUMMARY:Broker Forum
DESCRIPTION:
URL:https://insurancegls.com/event/broker-forum-16/
END:VEVENT
BEGIN:VEVENT
DTSTART;TZID=CST:20260511T113000
DTEND;TZID=CST:20260511T113000
DTSTAMP:20260423T192029
CREATED:20260411T182121Z
LAST-MODIFIED:20260423T180615Z
UID:10003340-1778499000-1778499000@insurancegls.com
SUMMARY:Momentum Mondays
DESCRIPTION:
URL:https://insurancegls.com/event/momentum-mondays-10/
END:VEVENT
BEGIN:VEVENT
DTSTART;TZID=EST:20260511T100000
DTEND;TZID=EST:20260511T100000
DTSTAMP:20260423T192029
CREATED:20260411T182121Z
LAST-MODIFIED:20260423T180615Z
UID:10003338-1778493600-1778493600@insurancegls.com
SUMMARY:Grassroots Marketing\, what is it and why is it important
DESCRIPTION:
URL:https://insurancegls.com/event/grassroots-marketing-what-is-it-and-why-is-it-important-14/
END:VEVENT
BEGIN:VEVENT
DTSTART;TZID=CST:20260511T100000
DTEND;TZID=CST:20260511T100000
DTSTAMP:20260423T192029
CREATED:20260411T182121Z
LAST-MODIFIED:20260423T180615Z
UID:10003339-1778493600-1778493600@insurancegls.com
SUMMARY:2026 MA/MAPD product training
DESCRIPTION:
URL:https://insurancegls.com/event/2026-ma-mapd-product-training-58/
END:VEVENT
BEGIN:VEVENT
DTSTART;TZID=EST:20260511T090000
DTEND;TZID=EST:20260511T090000
DTSTAMP:20260423T192029
CREATED:20260411T182121Z
LAST-MODIFIED:20260423T180615Z
UID:10003337-1778490000-1778490000@insurancegls.com
SUMMARY:Aetna Academy\, MA Only
DESCRIPTION:
URL:https://insurancegls.com/event/aetna-academy-ma-only-3/
END:VEVENT
BEGIN:VEVENT
DTSTART;TZID=EST:20260508T150000
DTEND;TZID=EST:20260508T150000
DTSTAMP:20260423T192029
CREATED:20260409T180631Z
LAST-MODIFIED:20260423T180615Z
UID:10003336-1778252400-1778252400@insurancegls.com
SUMMARY:15 minute roundtable with your Broker Manager
DESCRIPTION:
URL:https://insurancegls.com/event/15-minute-roundtable-with-your-broker-manager-3/
END:VEVENT
BEGIN:VEVENT
DTSTART;TZID=EST:20260508T130000
DTEND;TZID=EST:20260508T130000
DTSTAMP:20260423T192029
CREATED:20260409T180631Z
LAST-MODIFIED:20260423T180614Z
UID:10003335-1778245200-1778245200@insurancegls.com
SUMMARY:Fun Fact Friday
DESCRIPTION:
URL:https://insurancegls.com/event/fun-fact-friday-3/
END:VEVENT
END:VCALENDAR